BEGIN:VCALENDAR
VERSION:2.0
PRODID:-//Municipalidad Carmen de la Legua Reynoso - ECPv6.0.11//NONSGML v1.0//EN
CALSCALE:GREGORIAN
METHOD:PUBLISH
X-WR-CALNAME:Municipalidad Carmen de la Legua Reynoso
X-ORIGINAL-URL:https://municarmendelalegua.gob.pe
X-WR-CALDESC:Eventos para Municipalidad Carmen de la Legua Reynoso
REFRESH-INTERVAL;VALUE=DURATION:PT1H
X-Robots-Tag:noindex
X-PUBLISHED-TTL:PT1H
BEGIN:VTIMEZONE
TZID:America/Lima
BEGIN:STANDARD
TZOFFSETFROM:-0500
TZOFFSETTO:-0500
TZNAME:-05
DTSTART:20250101T000000
END:STANDARD
END:VTIMEZONE
BEGIN:VEVENT
DTSTART;TZID=America/Lima:20250314T170000
DTEND;TZID=America/Lima:20250314T190000
DTSTAMP:20260421T214742
CREATED:20250313T230942Z
LAST-MODIFIED:20250317T153440Z
UID:17895-1741971600-1741978800@municarmendelalegua.gob.pe
SUMMARY:Tour de la Alegría y Cine
DESCRIPTION:Ubicación del evento
URL:https://municarmendelalegua.gob.pe/evento/17895/
LOCATION:Av. López Pasos cuadra 15 (CDL)\, Av. López Pasos cuadra 15\, Perú
CATEGORIES:Tour de la Alegría y Cine
END:VEVENT
BEGIN:VEVENT
DTSTART;TZID=America/Lima:20250315T170000
DTEND;TZID=America/Lima:20250315T190000
DTSTAMP:20260421T214742
CREATED:20250314T201449Z
LAST-MODIFIED:20250317T152438Z
UID:17916-1742058000-1742065200@municarmendelalegua.gob.pe
SUMMARY:Tour de la Alegría y Cine
DESCRIPTION:Ubicación del evento \n﻿
URL:https://municarmendelalegua.gob.pe/evento/tour-de-la-alegria-y-cine/
LOCATION:Jr. Leoncio Prado cuadra 1\, Jr. Leoncio Prado cuadra 1\, Perú
CATEGORIES:Tour de la Alegría y Cine
END:VEVENT
BEGIN:VEVENT
DTSTART;TZID=America/Lima:20250321T183000
DTEND;TZID=America/Lima:20250321T203000
DTSTAMP:20260421T214742
CREATED:20250319T214506Z
LAST-MODIFIED:20250319T220540Z
UID:18008-1742581800-1742589000@municarmendelalegua.gob.pe
SUMMARY:Tour de la Alegría y Cine
DESCRIPTION:Ubicación del evento
URL:https://municarmendelalegua.gob.pe/evento/tour-de-la-alegria-y-cine-21-03-2025/
LOCATION:Av. Julio César Tello cuadra 11\, Av. Julio César Tello cuadra 11\, Perú
CATEGORIES:Tour de la Alegría y Cine
END:VEVENT
END:VCALENDAR